Package: STRINGdb Version: 2.23.0 Command: /home/biocbuild/bbs-3.23-bioc/R/bin/R CMD INSTALL STRINGdb StartedAt: 2025-10-31 15:19:06 -0400 (Fri, 31 Oct 2025) EndedAt: 2025-10-31 15:19:14 -0400 (Fri, 31 Oct 2025) EllapsedTime: 7.8 seconds RetCode: 0 Status: OK