Package: STRINGdb Version: 2.23.0 Command: /home/biocbuild/bbs-3.23-bioc/R/bin/R CMD build --keep-empty-dirs --no-resave-data STRINGdb StartedAt: 2025-10-31 20:29:37 -0400 (Fri, 31 Oct 2025) EndedAt: 2025-10-31 20:33:41 -0400 (Fri, 31 Oct 2025) EllapsedTime: 244.2 seconds RetCode: 0 Status: OK PackageFile: STRINGdb_2.23.0.tar.gz PackageFileSize: 9.949 MiB