Package: STRINGdb Version: 2.21.0 Command: /Library/Frameworks/R.framework/Resources/bin/R CMD INSTALL STRINGdb StartedAt: 2025-09-29 15:12:12 -0400 (Mon, 29 Sep 2025) EndedAt: 2025-09-29 15:12:40 -0400 (Mon, 29 Sep 2025) EllapsedTime: 28.2 seconds RetCode: 0 Status: OK