Package: STRINGdb Version: 2.21.0 Command: /Library/Frameworks/R.framework/Resources/bin/R CMD build --keep-empty-dirs --no-resave-data STRINGdb StartedAt: 2025-09-29 19:01:10 -0400 (Mon, 29 Sep 2025) EndedAt: 2025-09-29 19:05:51 -0400 (Mon, 29 Sep 2025) EllapsedTime: 280.1 seconds RetCode: 0 Status: OK PackageFile: STRINGdb_2.21.0.tar.gz PackageFileSize: 9.949 MiB