Package: STRINGdb Version: 2.21.0 Command: rm -rf STRINGdb.buildbin-libdir && mkdir STRINGdb.buildbin-libdir && /Users/biocbuild/BBS/utils/build-universal.sh STRINGdb_2.21.0.tar.gz /Library/Frameworks/R.framework/Resources/bin/R STRINGdb.buildbin-libdir StartedAt: 2025-10-01 02:10:09 -0400 (Wed, 01 Oct 2025) EndedAt: 2025-10-01 02:10:22 -0400 (Wed, 01 Oct 2025) EllapsedTime: 12.6 seconds RetCode: 0 Status: OK PackageFile: STRINGdb_2.21.0.tgz PackageFileSize: 10.14 MiB