Package: STRINGdb Version: 2.21.0 Maintainer: Damian Szklarczyk MaintainerEmail: damian.szklarczyk at imls.uzh.ch git_url: https://git.bioconductor.org/packages/STRINGdb git_branch: devel git_last_commit: dad0898 git_last_commit_date: 2025-04-15 10:26:38 -0400 (Tue, 15 Apr 2025)