Package: STATegRa Version: 1.47.0 Command: /home/biocbuild/bbs-3.23-bioc/R/bin/R CMD INSTALL STATegRa StartedAt: 2025-11-20 15:12:17 -0500 (Thu, 20 Nov 2025) EndedAt: 2025-11-20 15:12:29 -0500 (Thu, 20 Nov 2025) EllapsedTime: 12.8 seconds RetCode: 0 Status: OK