Package: STATegRa Version: 1.47.0 Command: /home/biocbuild/bbs-3.23-bioc/R/bin/R CMD build --keep-empty-dirs --no-resave-data STATegRa StartedAt: 2025-11-20 20:22:50 -0500 (Thu, 20 Nov 2025) EndedAt: 2025-11-20 20:24:42 -0500 (Thu, 20 Nov 2025) EllapsedTime: 112.1 seconds RetCode: 0 Status: OK PackageFile: STATegRa_1.47.0.tar.gz PackageFileSize: 4.944 MiB