Package: STATegRa Version: 1.45.0 Command: /Library/Frameworks/R.framework/Resources/bin/R CMD INSTALL STATegRa StartedAt: 2025-10-16 15:41:46 -0400 (Thu, 16 Oct 2025) EndedAt: 2025-10-16 15:42:14 -0400 (Thu, 16 Oct 2025) EllapsedTime: 27.6 seconds RetCode: 0 Status: OK