Package: STATegRa Version: 1.45.0 Command: /Library/Frameworks/R.framework/Resources/bin/R CMD build --keep-empty-dirs --no-resave-data STATegRa StartedAt: 2025-10-15 19:40:47 -0400 (Wed, 15 Oct 2025) EndedAt: 2025-10-15 19:43:09 -0400 (Wed, 15 Oct 2025) EllapsedTime: 141.8 seconds RetCode: 0 Status: OK PackageFile: STATegRa_1.45.0.tar.gz PackageFileSize: 5.175 MiB