Package: STATegRa Version: 1.45.0 Command: rm -rf STATegRa.buildbin-libdir && mkdir STATegRa.buildbin-libdir && /Users/biocbuild/BBS/utils/build-universal.sh STATegRa_1.45.0.tar.gz /Library/Frameworks/R.framework/Resources/bin/R STATegRa.buildbin-libdir StartedAt: 2025-10-16 03:20:37 -0400 (Thu, 16 Oct 2025) EndedAt: 2025-10-16 03:21:00 -0400 (Thu, 16 Oct 2025) EllapsedTime: 23.2 seconds RetCode: 0 Status: OK PackageFile: STATegRa_1.45.0.tgz PackageFileSize: 4.878 MiB