Package: STATegRa Version: 1.45.0 Command: /Library/Frameworks/R.framework/Resources/bin/R CMD build --keep-empty-dirs --no-resave-data STATegRa StartedAt: 2025-09-30 17:56:28 -0400 (Tue, 30 Sep 2025) EndedAt: 2025-09-30 17:57:16 -0400 (Tue, 30 Sep 2025) EllapsedTime: 47.6 seconds RetCode: 0 Status: OK PackageFile: STATegRa_1.45.0.tar.gz PackageFileSize: 5.177 MiB