Package: STADyUM Version: 1.1.0 Command: /home/biocbuild/bbs-3.23-bioc/R/bin/R CMD INSTALL STADyUM StartedAt: 2025-11-20 15:33:30 -0500 (Thu, 20 Nov 2025) EndedAt: 2025-11-20 15:33:49 -0500 (Thu, 20 Nov 2025) EllapsedTime: 19.1 seconds RetCode: 1 Status: ERROR