Package: STADyUM Version: 1.1.0 Command: /home/biocbuild/bbs-3.23-bioc/R/bin/R CMD build --keep-empty-dirs --no-resave-data STADyUM StartedAt: 2025-11-20 20:22:31 -0500 (Thu, 20 Nov 2025) EndedAt: 2025-11-20 20:22:50 -0500 (Thu, 20 Nov 2025) EllapsedTime: 19.0 seconds RetCode: 1 Status: ERROR PackageFile: None PackageFileSize: NA