Package: STADyUM Version: 0.99.4 Command: /Library/Frameworks/R.framework/Resources/bin/R CMD INSTALL STADyUM StartedAt: 2025-10-24 15:21:31 -0400 (Fri, 24 Oct 2025) EndedAt: 2025-10-24 15:21:49 -0400 (Fri, 24 Oct 2025) EllapsedTime: 17.7 seconds RetCode: 0 Status: OK