Package: STADyUM Version: 0.99.4 Command: /Library/Frameworks/R.framework/Resources/bin/R CMD build --keep-empty-dirs --no-resave-data STADyUM StartedAt: 2025-10-24 17:53:55 -0400 (Fri, 24 Oct 2025) EndedAt: 2025-10-24 17:54:40 -0400 (Fri, 24 Oct 2025) EllapsedTime: 45.5 seconds RetCode: 0 Status: OK PackageFile: STADyUM_0.99.4.tar.gz PackageFileSize: 2.829 MiB