Package: STADyUM Version: 0.99.4 Command: rm -rf STADyUM.buildbin-libdir && mkdir STADyUM.buildbin-libdir && /Users/biocbuild/BBS/utils/build-universal.sh STADyUM_0.99.4.tar.gz /Library/Frameworks/R.framework/Resources/bin/R STADyUM.buildbin-libdir StartedAt: 2025-10-24 23:21:36 -0400 (Fri, 24 Oct 2025) EndedAt: 2025-10-24 23:21:57 -0400 (Fri, 24 Oct 2025) EllapsedTime: 20.5 seconds RetCode: 0 Status: OK PackageFile: STADyUM_0.99.4.tgz PackageFileSize: 3.154 MiB