Package: SRAdb Version: 1.73.0 Command: /home/biocbuild/bbs-3.23-bioc/R/bin/R CMD build --keep-empty-dirs --no-resave-data SRAdb StartedAt: 2025-11-20 20:21:33 -0500 (Thu, 20 Nov 2025) EndedAt: 2025-11-20 20:21:43 -0500 (Thu, 20 Nov 2025) EllapsedTime: 10.0 seconds RetCode: 0 Status: OK PackageFile: SRAdb_1.73.0.tar.gz PackageFileSize: 889.2 KiB