Package: SRAdb Version: 1.71.0 Command: /Library/Frameworks/R.framework/Resources/bin/R CMD build --keep-empty-dirs --no-resave-data SRAdb StartedAt: 2025-10-24 18:57:33 -0400 (Fri, 24 Oct 2025) EndedAt: 2025-10-24 18:57:48 -0400 (Fri, 24 Oct 2025) EllapsedTime: 14.9 seconds RetCode: 0 Status: OK PackageFile: SRAdb_1.71.0.tar.gz PackageFileSize: 888.4 KiB