Package: SRAdb Version: 1.71.0 Command: /Library/Frameworks/R.framework/Resources/bin/R CMD build --keep-empty-dirs --no-resave-data SRAdb StartedAt: 2025-10-03 17:51:08 -0400 (Fri, 03 Oct 2025) EndedAt: 2025-10-03 17:51:14 -0400 (Fri, 03 Oct 2025) EllapsedTime: 6.1 seconds RetCode: 0 Status: OK PackageFile: SRAdb_1.71.0.tar.gz PackageFileSize: 889.5 KiB