Package: SQLDataFrame Version: 1.25.0 Command: /home/biocbuild/bbs-3.23-bioc/R/bin/R CMD check --install=check:SQLDataFrame.install-out.txt --library=/home/biocbuild/bbs-3.23-bioc/R/site-library --timings SQLDataFrame_1.25.0.tar.gz StartedAt: 2025-11-08 04:23:18 -0500 (Sat, 08 Nov 2025) EndedAt: 2025-11-08 04:25:59 -0500 (Sat, 08 Nov 2025) EllapsedTime: 161.1 seconds RetCode: 1 Status: ERROR CheckDir: SQLDataFrame.Rcheck Warnings: NA