Package: SQLDataFrame Version: 1.25.0 Command: /home/biocbuild/bbs-3.23-bioc/R/bin/R CMD build --keep-empty-dirs --no-resave-data SQLDataFrame StartedAt: 2025-11-07 20:16:30 -0500 (Fri, 07 Nov 2025) EndedAt: 2025-11-07 20:16:57 -0500 (Fri, 07 Nov 2025) EllapsedTime: 27.0 seconds RetCode: 0 Status: OK PackageFile: SQLDataFrame_1.25.0.tar.gz PackageFileSize: 235 KiB