Package: SPsimSeq Version: 1.21.0 Command: /home/biocbuild/bbs-3.23-bioc/R/bin/R CMD INSTALL SPsimSeq StartedAt: 2025-10-31 15:57:51 -0400 (Fri, 31 Oct 2025) EndedAt: 2025-10-31 15:58:25 -0400 (Fri, 31 Oct 2025) EllapsedTime: 34.2 seconds RetCode: 0 Status: OK