Package: SPsimSeq Version: 1.21.0 Command: /home/biocbuild/bbs-3.23-bioc/R/bin/R CMD check --install=check:SPsimSeq.install-out.txt --library=/home/biocbuild/bbs-3.23-bioc/R/site-library --timings SPsimSeq_1.21.0.tar.gz StartedAt: 2025-11-05 04:13:52 -0500 (Wed, 05 Nov 2025) EndedAt: 2025-11-05 04:23:30 -0500 (Wed, 05 Nov 2025) EllapsedTime: 578.6 seconds RetCode: 0 Status: OK CheckDir: SPsimSeq.Rcheck Warnings: 0