Package: SPsimSeq Version: 1.21.0 Command: /home/biocbuild/bbs-3.23-bioc/R/bin/R CMD build --keep-empty-dirs --no-resave-data SPsimSeq StartedAt: 2025-10-31 20:26:38 -0400 (Fri, 31 Oct 2025) EndedAt: 2025-10-31 20:30:28 -0400 (Fri, 31 Oct 2025) EllapsedTime: 229.2 seconds RetCode: 0 Status: OK PackageFile: SPsimSeq_1.21.0.tar.gz PackageFileSize: 766.2 KiB