Package: SPOTlight Version: 1.13.2 Command: /home/biocbuild/R/R/bin/R CMD INSTALL SPOTlight StartedAt: 2025-10-20 20:34:01 -0000 (Mon, 20 Oct 2025) EndedAt: 2025-10-20 20:34:55 -0000 (Mon, 20 Oct 2025) EllapsedTime: 54.0 seconds RetCode: 0 Status: OK