Package: SPOTlight Version: 1.13.2 Command: /home/biocbuild/R/R/bin/R CMD build --keep-empty-dirs --no-resave-data SPOTlight StartedAt: 2025-10-21 03:28:14 -0000 (Tue, 21 Oct 2025) EndedAt: 2025-10-21 03:31:38 -0000 (Tue, 21 Oct 2025) EllapsedTime: 204.1 seconds RetCode: 0 Status: OK PackageFile: SPOTlight_1.13.2.tar.gz PackageFileSize: 2.256 MiB