Package: SPOTlight Version: 1.15.0 Command: /home/biocbuild/bbs-3.23-bioc/R/bin/R CMD INSTALL SPOTlight StartedAt: 2025-11-20 15:19:25 -0500 (Thu, 20 Nov 2025) EndedAt: 2025-11-20 15:20:02 -0500 (Thu, 20 Nov 2025) EllapsedTime: 36.9 seconds RetCode: 0 Status: OK