Package: SPOTlight Version: 1.15.0 Command: /home/biocbuild/bbs-3.23-bioc/R/bin/R CMD check --install=check:SPOTlight.install-out.txt --library=/home/biocbuild/bbs-3.23-bioc/R/site-library --timings SPOTlight_1.15.0.tar.gz StartedAt: 2025-11-22 04:26:03 -0500 (Sat, 22 Nov 2025) EndedAt: 2025-11-22 04:31:58 -0500 (Sat, 22 Nov 2025) EllapsedTime: 354.3 seconds RetCode: 0 Status: OK CheckDir: SPOTlight.Rcheck Warnings: 0