Package: SPONGE Version: 1.33.0 Command: /home/biocbuild/bbs-3.23-bioc/R/bin/R CMD INSTALL SPONGE StartedAt: 2025-11-07 15:32:37 -0500 (Fri, 07 Nov 2025) EndedAt: 2025-11-07 15:33:53 -0500 (Fri, 07 Nov 2025) EllapsedTime: 75.9 seconds RetCode: 0 Status: OK