Package: SPONGE Version: 1.33.0 Command: /home/biocbuild/bbs-3.23-bioc/R/bin/R CMD build --keep-empty-dirs --no-resave-data SPONGE StartedAt: 2025-11-07 20:14:51 -0500 (Fri, 07 Nov 2025) EndedAt: 2025-11-07 20:17:49 -0500 (Fri, 07 Nov 2025) EllapsedTime: 178.1 seconds RetCode: 0 Status: OK PackageFile: SPONGE_1.33.0.tar.gz PackageFileSize: 8.952 MiB