Package: SPONGE Version: 1.31.0 Command: /Library/Frameworks/R.framework/Resources/bin/R CMD build --keep-empty-dirs --no-resave-data SPONGE StartedAt: 2025-10-20 19:40:37 -0400 (Mon, 20 Oct 2025) EndedAt: 2025-10-20 19:45:49 -0400 (Mon, 20 Oct 2025) EllapsedTime: 312.2 seconds RetCode: 0 Status: OK PackageFile: SPONGE_1.31.0.tar.gz PackageFileSize: 8.979 MiB