Package: SPONGE Version: 1.31.0 Command: /Library/Frameworks/R.framework/Resources/bin/R CMD INSTALL SPONGE StartedAt: 2025-10-10 15:11:42 -0400 (Fri, 10 Oct 2025) EndedAt: 2025-10-10 15:12:17 -0400 (Fri, 10 Oct 2025) EllapsedTime: 34.6 seconds RetCode: 0 Status: OK