Package: SPONGE Version: 1.31.0 Command: /Library/Frameworks/R.framework/Resources/bin/R CMD build --keep-empty-dirs --no-resave-data SPONGE StartedAt: 2025-10-10 17:50:08 -0400 (Fri, 10 Oct 2025) EndedAt: 2025-10-10 17:51:36 -0400 (Fri, 10 Oct 2025) EllapsedTime: 88.0 seconds RetCode: 0 Status: OK PackageFile: SPONGE_1.31.0.tar.gz PackageFileSize: 8.981 MiB