Package: SPONGE Version: 1.31.0 Command: rm -rf SPONGE.buildbin-libdir && mkdir SPONGE.buildbin-libdir && /Users/biocbuild/BBS/utils/build-universal.sh SPONGE_1.31.0.tar.gz /Library/Frameworks/R.framework/Resources/bin/R SPONGE.buildbin-libdir StartedAt: 2025-10-10 22:59:10 -0400 (Fri, 10 Oct 2025) EndedAt: 2025-10-10 22:59:48 -0400 (Fri, 10 Oct 2025) EllapsedTime: 37.9 seconds RetCode: 0 Status: OK PackageFile: SPONGE_1.31.0.tgz PackageFileSize: 8.741 MiB