Package: SPLINTER Version: 1.35.1 Command: /home/biocbuild/R/R/bin/R CMD INSTALL SPLINTER StartedAt: 2025-10-09 21:59:12 -0000 (Thu, 09 Oct 2025) EndedAt: 2025-10-09 22:00:14 -0000 (Thu, 09 Oct 2025) EllapsedTime: 62.5 seconds RetCode: 0 Status: OK