Package: SPLINTER Version: 1.35.1 Command: /home/biocbuild/R/R/bin/R CMD build --keep-empty-dirs --no-resave-data SPLINTER StartedAt: 2025-10-10 04:28:13 -0000 (Fri, 10 Oct 2025) EndedAt: 2025-10-10 04:30:17 -0000 (Fri, 10 Oct 2025) EllapsedTime: 124.0 seconds RetCode: 1 Status: ERROR PackageFile: None PackageFileSize: NA