Package: SPLINTER Version: 1.35.1 Command: /home/biocbuild/bbs-3.22-bioc/R/bin/R CMD check --install=check:SPLINTER.install-out.txt --library=/home/biocbuild/bbs-3.22-bioc/R/site-library --timings SPLINTER_1.35.1.tar.gz StartedAt: 2025-10-04 04:40:49 -0400 (Sat, 04 Oct 2025) EndedAt: 2025-10-04 04:47:28 -0400 (Sat, 04 Oct 2025) EllapsedTime: 399.3 seconds RetCode: 0 Status: OK CheckDir: SPLINTER.Rcheck Warnings: 0