Package: SPLINTER Version: 1.37.0 Command: /home/biocbuild/bbs-3.23-bioc/R/bin/R CMD check --install=check:SPLINTER.install-out.txt --library=/home/biocbuild/bbs-3.23-bioc/R/site-library --timings SPLINTER_1.37.0.tar.gz StartedAt: 2025-11-08 04:19:56 -0500 (Sat, 08 Nov 2025) EndedAt: 2025-11-08 04:26:27 -0500 (Sat, 08 Nov 2025) EllapsedTime: 391.4 seconds RetCode: 0 Status: OK CheckDir: SPLINTER.Rcheck Warnings: 0