Package: SPLINTER Version: 1.37.0 Command: /home/biocbuild/bbs-3.23-bioc/R/bin/R CMD build --keep-empty-dirs --no-resave-data SPLINTER StartedAt: 2025-11-05 20:18:47 -0500 (Wed, 05 Nov 2025) EndedAt: 2025-11-05 20:20:21 -0500 (Wed, 05 Nov 2025) EllapsedTime: 94.1 seconds RetCode: 0 Status: OK PackageFile: SPLINTER_1.37.0.tar.gz PackageFileSize: 961 KiB