Package: SPICEY Version: 0.99.5 Command: /home/biocbuild/R/R/bin/R CMD INSTALL SPICEY StartedAt: 2025-10-16 22:00:41 -0000 (Thu, 16 Oct 2025) EndedAt: 2025-10-16 22:00:56 -0000 (Thu, 16 Oct 2025) EllapsedTime: 14.9 seconds RetCode: 0 Status: OK