Package: SPICEY Version: 0.99.3 Command: /home/biocbuild/bbs-3.22-bioc/R/bin/R CMD INSTALL SPICEY StartedAt: 2025-09-21 15:41:24 -0400 (Sun, 21 Sep 2025) EndedAt: 2025-09-21 15:41:37 -0400 (Sun, 21 Sep 2025) EllapsedTime: 12.4 seconds RetCode: 0 Status: OK