Package: SPICEY Version: 0.99.5 Command: /home/biocbuild/bbs-3.22-bioc/R/bin/R CMD check --install=check:SPICEY.install-out.txt --library=/home/biocbuild/bbs-3.22-bioc/R/site-library --timings SPICEY_0.99.5.tar.gz StartedAt: 2025-10-17 06:14:34 -0400 (Fri, 17 Oct 2025) EndedAt: 2025-10-17 06:17:30 -0400 (Fri, 17 Oct 2025) EllapsedTime: 176.2 seconds RetCode: 0 Status: OK CheckDir: SPICEY.Rcheck Warnings: 0