Package: SPICEY Version: 1.1.0 Command: /home/biocbuild/bbs-3.23-bioc/R/bin/R CMD INSTALL SPICEY StartedAt: 2025-11-05 15:48:30 -0500 (Wed, 05 Nov 2025) EndedAt: 2025-11-05 15:48:41 -0500 (Wed, 05 Nov 2025) EllapsedTime: 11.2 seconds RetCode: 0 Status: OK