Package: SPICEY Version: 1.1.0 Command: /home/biocbuild/bbs-3.23-bioc/R/bin/R CMD build --keep-empty-dirs --no-resave-data SPICEY StartedAt: 2025-11-04 20:09:57 -0500 (Tue, 04 Nov 2025) EndedAt: 2025-11-04 20:10:39 -0500 (Tue, 04 Nov 2025) EllapsedTime: 42.0 seconds RetCode: 0 Status: OK PackageFile: SPICEY_1.1.0.tar.gz PackageFileSize: 1000 KiB