Package: SPICEY Version: 0.99.3 Command: /Library/Frameworks/R.framework/Resources/bin/R CMD build --keep-empty-dirs --no-resave-data SPICEY StartedAt: 2025-09-30 18:57:52 -0400 (Tue, 30 Sep 2025) EndedAt: 2025-09-30 18:58:48 -0400 (Tue, 30 Sep 2025) EllapsedTime: 56.1 seconds RetCode: 0 Status: OK PackageFile: SPICEY_0.99.3.tar.gz PackageFileSize: 982.3 KiB