Package: SPICEY Version: 0.99.5 Command: /Library/Frameworks/R.framework/Resources/bin/R CMD INSTALL SPICEY StartedAt: 2025-10-12 15:21:18 -0400 (Sun, 12 Oct 2025) EndedAt: 2025-10-12 15:21:23 -0400 (Sun, 12 Oct 2025) EllapsedTime: 5.3 seconds RetCode: 0 Status: OK