Package: SPICEY Version: 0.99.5 Command: /Library/Frameworks/R.framework/Resources/bin/R CMD build --keep-empty-dirs --no-resave-data SPICEY StartedAt: 2025-10-12 17:47:06 -0400 (Sun, 12 Oct 2025) EndedAt: 2025-10-12 17:47:25 -0400 (Sun, 12 Oct 2025) EllapsedTime: 19.2 seconds RetCode: 0 Status: OK PackageFile: SPICEY_0.99.5.tar.gz PackageFileSize: 1003 KiB