Package: SPICEY Version: 0.99.5 Command: rm -rf SPICEY.buildbin-libdir && mkdir SPICEY.buildbin-libdir && /Users/biocbuild/BBS/utils/build-universal.sh SPICEY_0.99.5.tar.gz /Library/Frameworks/R.framework/Resources/bin/R SPICEY.buildbin-libdir StartedAt: 2025-10-12 22:55:05 -0400 (Sun, 12 Oct 2025) EndedAt: 2025-10-12 22:55:10 -0400 (Sun, 12 Oct 2025) EllapsedTime: 5.1 seconds RetCode: 0 Status: OK PackageFile: SPICEY_0.99.5.tgz PackageFileSize: 1.035 MiB