Package: SPICEY Version: 0.99.5 Maintainer: Georgina Fuentes-Páez MaintainerEmail: georgina.fuentes at upf.edu git_url: https://git.bioconductor.org/packages/SPICEY git_branch: devel git_last_commit: 9164b4b git_last_commit_date: 2025-10-08 11:14:07 -0400 (Wed, 08 Oct 2025)